BEGIN:VCALENDAR
PRODID:-//eluceo/ical//2.0/EN
VERSION:2.0
CALSCALE:GREGORIAN
BEGIN:VEVENT
UID:f77da01dbdefe621d5261631d12dccec
DTSTAMP:20260425T150109Z
SUMMARY:ISSS: (ne)Veselé historky z bezpečnostního testování
DTSTART:20240514T100500
DTEND:20240514T102000
LOCATION:Velký sál
END:VEVENT
END:VCALENDAR
