BEGIN:VCALENDAR
PRODID:-//eluceo/ical//2.0/EN
VERSION:2.0
CALSCALE:GREGORIAN
BEGIN:VEVENT
UID:cc1779d0aa105984afcb0917ec70a78f
DTSTAMP:20260425T145905Z
SUMMARY:ISSS: WEDOS Global Protection: Budoucnost webu bez DDoS
DTSTART:20240514T102000
DTEND:20240514T103000
LOCATION:Velký sál
END:VEVENT
END:VCALENDAR
