BEGIN:VCALENDAR
PRODID:-//eluceo/ical//2.0/EN
VERSION:2.0
CALSCALE:GREGORIAN
BEGIN:VEVENT
UID:e0359ea20564fffdc8c1a57a5c0bd74e
DTSTAMP:20260425T150124Z
SUMMARY:ISSS: Schopnost naprostého zotavení – nejúčinnější obrana
  proti kybernetickým hrozbám
DTSTART:20240514T103500
DTEND:20240514T104500
LOCATION:Velký sál
END:VEVENT
END:VCALENDAR
