BEGIN:VCALENDAR
PRODID:-//eluceo/ical//2.0/EN
VERSION:2.0
CALSCALE:GREGORIAN
BEGIN:VEVENT
UID:d79f98e0e6688e6211a6149a2f7f000e
DTSTAMP:20260425T145844Z
SUMMARY:ISSS: NIS2 bez NIS2
DTSTART:20240514T104500
DTEND:20240514T111500
LOCATION:Velký sál
END:VEVENT
END:VCALENDAR
