BEGIN:VCALENDAR
PRODID:-//eluceo/ical//2.0/EN
VERSION:2.0
CALSCALE:GREGORIAN
BEGIN:VEVENT
UID:fe2ce60d95c9e769523f1ad0e34db0ba
DTSTAMP:20260425T145738Z
SUMMARY:ISSS: Důležitý krok při zavádění povinností NIS2
DTSTART:20240514T111500
DTEND:20240514T113000
LOCATION:Velký sál
END:VEVENT
END:VCALENDAR
