BEGIN:VCALENDAR
PRODID:-//eluceo/ical//2.0/EN
VERSION:2.0
CALSCALE:GREGORIAN
BEGIN:VEVENT
UID:d92247469371dc7c06fcf65dd527134e
DTSTAMP:20260425T150001Z
SUMMARY:ISSS: NIS\, ZoKB a veřejná správa
DTSTART:20240514T113000
DTEND:20240514T123000
LOCATION:Velký sál
END:VEVENT
END:VCALENDAR
