BEGIN:VCALENDAR
PRODID:-//eluceo/ical//2.0/EN
VERSION:2.0
CALSCALE:GREGORIAN
BEGIN:VEVENT
UID:c167f2824fd7e2e521abc103d7bb2022
DTSTAMP:20260425T150146Z
SUMMARY:ISSS: Elektronizace volební a matriční agendy
DTSTART:20240514T090000
DTEND:20240514T092000
LOCATION:Malý sál
END:VEVENT
END:VCALENDAR
