BEGIN:VCALENDAR
PRODID:-//eluceo/ical//2.0/EN
VERSION:2.0
CALSCALE:GREGORIAN
BEGIN:VEVENT
UID:c96fc5bf2b9bc544092099d9123d1e96
DTSTAMP:20260425T150048Z
SUMMARY:ISSS: Představení sekce informačních technologií Ministerstva 
 vnitra
DTSTART:20240514T092000
DTEND:20240514T094000
LOCATION:Malý sál
END:VEVENT
END:VCALENDAR
