BEGIN:VCALENDAR
PRODID:-//eluceo/ical//2.0/EN
VERSION:2.0
CALSCALE:GREGORIAN
BEGIN:VEVENT
UID:d3dab6265fa795207e2369340799bb97
DTSTAMP:20260425T145839Z
SUMMARY:ISSS: Možnosti napojení regionálních sítí k ITS MV – aktu
 ální stav
DTSTART:20240514T094000
DTEND:20240514T095500
LOCATION:Malý sál
END:VEVENT
END:VCALENDAR
