BEGIN:VCALENDAR
PRODID:-//eluceo/ical//2.0/EN
VERSION:2.0
CALSCALE:GREGORIAN
BEGIN:VEVENT
UID:3927a9936972aa7844ab6f6396afc9a7
DTSTAMP:20260425T145946Z
SUMMARY:ISSS: e-Sbírka a e-Legislativa
DTSTART:20240514T095500
DTEND:20240514T101000
LOCATION:Malý sál
END:VEVENT
END:VCALENDAR
