BEGIN:VCALENDAR
PRODID:-//eluceo/ical//2.0/EN
VERSION:2.0
CALSCALE:GREGORIAN
BEGIN:VEVENT
UID:aae5e6006151786343e7c74ca87ae8f5
DTSTAMP:20260425T145844Z
SUMMARY:ISSS: Dlouhodobé řízení ISVS
DTSTART:20240514T102000
DTEND:20240514T103500
LOCATION:Malý sál
END:VEVENT
END:VCALENDAR
