BEGIN:VCALENDAR
PRODID:-//eluceo/ical//2.0/EN
VERSION:2.0
CALSCALE:GREGORIAN
BEGIN:VEVENT
UID:6c45d8d32f4023e699cabec128328cac
DTSTAMP:20260425T150124Z
SUMMARY:ISSS: Využití umělé inteligence v platformě GINIS
DTSTART:20240514T103500
DTEND:20240514T105000
LOCATION:Malý sál
END:VEVENT
END:VCALENDAR
