BEGIN:VCALENDAR
PRODID:-//eluceo/ical//2.0/EN
VERSION:2.0
CALSCALE:GREGORIAN
BEGIN:VEVENT
UID:894c344ffd5ea3487993f403ba9f4389
DTSTAMP:20260425T150048Z
SUMMARY:ISSS: Co je u nás nového? – Agendové informační systémy\,
  Propojení do ESSL … KZS a JES
DTSTART:20240514T105000
DTEND:20240514T112000
LOCATION:Malý sál
END:VEVENT
END:VCALENDAR
