BEGIN:VCALENDAR
PRODID:-//eluceo/ical//2.0/EN
VERSION:2.0
CALSCALE:GREGORIAN
BEGIN:VEVENT
UID:4be02ba49ff18ba0ec8977dcc272d2f4
DTSTAMP:20260425T150236Z
SUMMARY:ISSS: Digitalizace obecního sektoru a hotovostních transakcí
DTSTART:20240514T112500
DTEND:20240514T113500
LOCATION:Malý sál
END:VEVENT
END:VCALENDAR
