BEGIN:VCALENDAR
PRODID:-//eluceo/ical//2.0/EN
VERSION:2.0
CALSCALE:GREGORIAN
BEGIN:VEVENT
UID:9e21c2b3043cb8acd3a15697aa0a418d
DTSTAMP:20260425T145833Z
SUMMARY:ISSS: Co všechno se točí kolem spisové služby?
DTSTART:20240514T113500
DTEND:20240514T115000
LOCATION:Malý sál
END:VEVENT
END:VCALENDAR
