BEGIN:VCALENDAR
PRODID:-//eluceo/ical//2.0/EN
VERSION:2.0
CALSCALE:GREGORIAN
BEGIN:VEVENT
UID:5ff7ae37a9bba075baff4e784cfae178
DTSTAMP:20260425T145833Z
SUMMARY:ISSS: Kompetenční centra – s čím pomůžeme úřadům?
DTSTART:20240514T115000
DTEND:20240514T120500
LOCATION:Malý sál
END:VEVENT
END:VCALENDAR
