BEGIN:VCALENDAR
PRODID:-//eluceo/ical//2.0/EN
VERSION:2.0
CALSCALE:GREGORIAN
BEGIN:VEVENT
UID:16a45f3d8197a1a475a2ba7d07e6bb7a
DTSTAMP:20260425T145905Z
SUMMARY:ISSS: ESG pro obce
DTSTART:20240514T120500
DTEND:20240514T121500
LOCATION:Malý sál
END:VEVENT
END:VCALENDAR
