BEGIN:VCALENDAR
PRODID:-//eluceo/ical//2.0/EN
VERSION:2.0
CALSCALE:GREGORIAN
BEGIN:VEVENT
UID:b55418c7095158391f88da0d5c88a60b
DTSTAMP:20260425T145839Z
SUMMARY:ISSS: eDoklady a ověřovatelé
DTSTART:20240514T100000
DTEND:20240514T101500
LOCATION:Eliščin sál
END:VEVENT
END:VCALENDAR
