BEGIN:VCALENDAR
PRODID:-//eluceo/ical//2.0/EN
VERSION:2.0
CALSCALE:GREGORIAN
BEGIN:VEVENT
UID:f5dd1541c66c0800e7c6a29937db3d56
DTSTAMP:20260425T150146Z
SUMMARY:ISSS: MojeID a eIDAS 2.0
DTSTART:20240514T101500
DTEND:20240514T103500
LOCATION:Eliščin sál
END:VEVENT
END:VCALENDAR
