BEGIN:VCALENDAR
PRODID:-//eluceo/ical//2.0/EN
VERSION:2.0
CALSCALE:GREGORIAN
BEGIN:VEVENT
UID:d2d02e747a0ef8125c9204d7ebe44d46
DTSTAMP:20260425T145956Z
SUMMARY:ISSS: Registr zastupování
DTSTART:20240514T103500
DTEND:20240514T105000
LOCATION:Eliščin sál
END:VEVENT
END:VCALENDAR
