BEGIN:VCALENDAR
PRODID:-//eluceo/ical//2.0/EN
VERSION:2.0
CALSCALE:GREGORIAN
BEGIN:VEVENT
UID:da8d9ebf9b388a4ce0d04a63546e8d4b
DTSTAMP:20260425T145946Z
SUMMARY:ISSS: Elektronické zastupování v kontextu českého eGovernment
 u
DTSTART:20240514T105000
DTEND:20240514T110500
LOCATION:Eliščin sál
END:VEVENT
END:VCALENDAR
