BEGIN:VCALENDAR
PRODID:-//eluceo/ical//2.0/EN
VERSION:2.0
CALSCALE:GREGORIAN
BEGIN:VEVENT
UID:d3cfedf4341b9451f5b9e5b94b7506ea
DTSTAMP:20260425T145738Z
SUMMARY:ISSS: Správa dat a jejich využívání pro lepší fungování ve
 řejné správy
DTSTART:20240514T111500
DTEND:20240514T113500
LOCATION:Eliščin sál
END:VEVENT
END:VCALENDAR
