BEGIN:VCALENDAR
PRODID:-//eluceo/ical//2.0/EN
VERSION:2.0
CALSCALE:GREGORIAN
BEGIN:VEVENT
UID:1e7634c045285f4eea906eabfe4e1e6f
DTSTAMP:20260425T145956Z
SUMMARY:ISSS: Využití otevřených dat Královéhradeckého kraje
DTSTART:20240514T113500
DTEND:20240514T115000
LOCATION:Eliščin sál
END:VEVENT
END:VCALENDAR
