BEGIN:VCALENDAR
PRODID:-//eluceo/ical//2.0/EN
VERSION:2.0
CALSCALE:GREGORIAN
BEGIN:VEVENT
UID:c9874e2413c26190ad215718505976f7
DTSTAMP:20260425T150501Z
SUMMARY:ISSS: Datový sklad Munis a portál občana
DTSTART:20240514T092000
DTEND:20240514T093000
LOCATION:Expozice Triada
END:VEVENT
END:VCALENDAR
