BEGIN:VCALENDAR
PRODID:-//eluceo/ical//2.0/EN
VERSION:2.0
CALSCALE:GREGORIAN
BEGIN:VEVENT
UID:577f098065d2425c2c54d8aac28bb749
DTSTAMP:20260425T150329Z
SUMMARY:ISSS: Využití kvalifikovaných služeb vytvářejících důvěru
  v IS Munis
DTSTART:20240514T102000
DTEND:20240514T103000
LOCATION:Expozice Triada
END:VEVENT
END:VCALENDAR
