BEGIN:VCALENDAR
PRODID:-//eluceo/ical//2.0/EN
VERSION:2.0
CALSCALE:GREGORIAN
BEGIN:VEVENT
UID:f2fb4eb2e1631966258b3349b252fc9e
DTSTAMP:20260425T150501Z
SUMMARY:ISSS: Spisová služba pro školy a další zřizované organizace
DTSTART:20240514T112000
DTEND:20240514T113000
LOCATION:Expozice Triada
END:VEVENT
END:VCALENDAR
