BEGIN:VCALENDAR
PRODID:-//eluceo/ical//2.0/EN
VERSION:2.0
CALSCALE:GREGORIAN
BEGIN:VEVENT
UID:b62ec98cf2681990c4b606229d4e3f57
DTSTAMP:20260425T150313Z
SUMMARY:ISSS: Vyhodnocení znalostní soutěže Munis
DTSTART:20240514T120000
DTEND:20240514T121500
LOCATION:Expozice Triada
END:VEVENT
END:VCALENDAR
